Workbook

Sheet Sheet1
A1: 附件4：
A2: 2023年度恩平市国家基本公共卫生项目绩效评估得分汇总表
B3: 平石 | C3: 横陂 | D3: 牛江 | E3: 良西 | F3: 沙湖 | G3: 大田 | H3: 江南 | I3: 东安 | J3: 圣堂 | K3: 东成 | L3: 大槐 | M3: 那吉 | N3: 君堂 | O3: 江洲
A4: 排 名 | B4: 1 | C4: 2 | D4: 3 | E4: 4 | F4: 5 | G4: 6 | H4: 7 | I4: 8 | J4: 9 | K4: 10 | L4: 11 | M4: 12 | N4: 13 | O4: 14
A5: 1.组织管理（100分） | B5: 97.84 | C5: =[2]组织管理!$L$9 -> 98.52 | D5: =[2]组织管理!$L$15 -> 90.52 | E5: =[2]组织管理!$L$13 -> 97.68 | F5: =[2]组织管理!$L$17 -> 92.52 | G5: =[2]组织管理!$L$6 -> 94.84 | H5: =[2]组织管理!$L$10 -> 80.87 | I5: =[2]组织管理!$L$7 -> 91.02 | J5: 98.7 | K5: =[2]组织管理!$L$8 -> 96.36 | L5: =[2]组织管理!$L$5 -> 85.87 | M5: =[2]组织管理!$L$14 -> 92.52 | N5: =[2]组织管理!$L$12 -> 90.52 | O5: =[2]组织管理!$L$11 -> 75.36
A6: 2.资金管理（100分） | B6: =[1]资金管理!$D$14 -> 100 | C6: =[1]资金管理!$D$5 -> 95.72 | D6: =[1]资金管理!$D$8 -> 95.84 | E6: =[1]资金管理!$D$9 -> 94.23 | F6: =[1]资金管理!$D$3 -> 99.03 | G6: =[1]资金管理!$D$13 -> 94.27 | H6: =[1]资金管理!$D$16 -> 95.62 | I6: =[1]资金管理!$D$15 -> 96.37 | J6: =[1]资金管理!$D$4 -> 95.7 | K6: =[1]资金管理!$D$10 -> 98.06 | L6: =[1]资金管理!$D$12 -> 95 | M6: =[1]资金管理!$D$11 -> 97.5 | N6: =[1]资金管理!$D$6 -> 90.1 | O6: =[1]资金管理!$D$7 -> 94.75
A7: 3.居民健康档案管理服务（100分） | B7: =[1]居民健康档案!$K$17 -> 100 | C7: =[1]居民健康档案!$K$11 -> 100 | D7: =[1]居民健康档案!$K$5 -> 100 | E7: =[1]居民健康档案!$K$9 -> 100 | F7: =[1]居民健康档案!$K$4 -> 100 | G7: =[1]居民健康档案!$K$12 -> 100 | H7: =[1]居民健康档案!$K$16 -> 100 | I7: =[1]居民健康档案!$K$15 -> 100 | J7: =[1]居民健康档案!$K$8 -> 71.401882 | K7: =[1]居民健康档案!$K$10 -> 79.096774 | L7: =[1]居民健康档案!$K$13 -> 88.525538 | M7: =[1]居民健康档案!$K$14 -> 92.147849 | N7: =[1]居民健康档案!$K$6 -> 100 | O7: =[1]居民健康档案!$K$7 -> 90.955645
A8: 4.健康教育服务（100分） | B8: =[1]健康教育2!$L$6 -> 96.5 | C8: =[1]健康教育2!$L$5 -> 96.5 | D8: =[1]健康教育2!$L$14 -> 97.4 | E8: =[1]健康教育2!$L$17 -> 96 | F8: =[1]健康教育2!$L$12 -> 96 | G8: =[1]健康教育2!$L$7 -> 96 | H8: =[1]健康教育2!$L$9 -> 90 | I8: =[1]健康教育2!$L$4 -> 98.5 | J8: =[1]健康教育2!$L$16 -> 95 | K8: =[1]健康教育2!$L$15 -> 98.5 | L8: =[1]健康教育2!$L$8 -> 97 | M8: =[1]健康教育2!$L$11 -> 97.5 | N8: =[1]健康教育2!$L$13 -> 94.5 | O8: =[1]健康教育2!$L$10 -> 95.5
A9: 5.预防接种服务（100分） | B9: ='[1]预防接种（疫苗和冷链管理情况）'!$L$8 -> 97 | C9: ='[1]预防接种（疫苗和冷链管理情况）'!$L$7 -> 97 | D9: ='[1]预防接种（疫苗和冷链管理情况）'!$L$17 -> 92 | E9: ='[1]预防接种（疫苗和冷链管理情况）'!$L$11 -> 92 | F9: ='[1]预防接种（疫苗和冷链管理情况）'!$L$9 -> 99 | G9: ='[1]预防接种（疫苗和冷链管理情况）'!$L$10 -> 98 | H9: ='[1]预防接种（疫苗和冷链管理情况）'!$L$4 -> 98 | I9: ='[1]预防接种（疫苗和冷链管理情况）'!$L$15 -> 95 | J9: ='[1]预防接种（疫苗和冷链管理情况）'!$L$14 -> 90 | K9: ='[1]预防接种（疫苗和冷链管理情况）'!$L$13 -> 97 | L9: ='[1]预防接种（疫苗和冷链管理情况）'!$L$5 -> 97 | M9: ='[1]预防接种（疫苗和冷链管理情况）'!$L$12 -> 92 | N9: ='[1]预防接种（疫苗和冷链管理情况）'!$L$16 -> 94 | O9: ='[1]预防接种（疫苗和冷链管理情况）'!$L$6 -> 97
A10: 6.0-6岁儿童健康管理服务（100分） | B10: ='[1]0-6岁儿童健康管理项目情况（总分）'!$F$5 -> 97 | C10: ='[1]0-6岁儿童健康管理项目情况（总分）'!$F$14 -> 93 | D10: ='[1]0-6岁儿童健康管理项目情况（总分）'!$F$10 -> 95 | E10: ='[1]0-6岁儿童健康管理项目情况（总分）'!$F$3 -> 99 | F10: ='[1]0-6岁儿童健康管理项目情况（总分）'!$F$15 -> 92 | G10: ='[1]0-6岁儿童健康管理项目情况（总分）'!$F$16 -> 90 | H10: ='[1]0-6岁儿童健康管理项目情况（总分）'!$F$7 -> 96 | I10: ='[1]0-6岁儿童健康管理项目情况（总分）'!$F$9 -> 95 | J10: ='[1]0-6岁儿童健康管理项目情况（总分）'!$F$11 -> 95 | K10: ='[1]0-6岁儿童健康管理项目情况（总分）'!$F$4 -> 97 | L10: ='[1]0-6岁儿童健康管理项目情况（总分）'!$F$12 -> 94 | M10: ='[1]0-6岁儿童健康管理项目情况（总分）'!$F$8 -> 95 | N10: ='[1]0-6岁儿童健康管理项目情况（总分）'!$F$6 -> 96 | O10: ='[1]0-6岁儿童健康管理项目情况（总分）'!$F$13 -> 94
A11: 7.孕产妇健康管理服务（100分） | B11: =[1]孕产妇得分汇总表!$N$21 -> 96 | C11: =[1]孕产妇得分汇总表!$N$15 -> 99.78 | D11: =[1]孕产妇得分汇总表!$N$13 -> 99 | E11: =[1]孕产妇得分汇总表!$N$8 -> 99 | F11: =[1]孕产妇得分汇总表!$N$17 -> 71.93 | G11: =[1]孕产妇得分汇总表!$N$9 -> 99 | H11: =[1]孕产妇得分汇总表!$N$14 -> 100 | I11: =[1]孕产妇得分汇总表!$N$16 -> 100 | J11: =[1]孕产妇得分汇总表!$N$20 -> 95 | K11: =[1]孕产妇得分汇总表!$N$12 -> 99 | L11: =[1]孕产妇得分汇总表!$N$18 -> 99 | M11: =[1]孕产妇得分汇总表!$N$19 -> 99 | N11: =[1]孕产妇得分汇总表!$N$10 -> 99 | O11: =[1]孕产妇得分汇总表!$N$11 -> 94.72
A12: 8.老年人健康管理服务（100分） | B12: 100 | C12: 100 | D12: 100 | E12: 100 | F12: 100 | G12: 96.25 | H12: =[1]老年人健康管理!$D$15 -> 100 | I12: 100 | J12: 100 | K12: 100 | L12: 100 | M12: 100 | N12: 100 | O12: 90.58
A13: 9.高血压患者健康管理服务（80+20分） | B13: =[1]高血压患者健康管理!$K$6 -> 100 | C13: =[1]高血压患者健康管理!$K$4 -> 100 | D13: =[1]高血压患者健康管理!$K$14 -> 100 | E13: =[1]高血压患者健康管理!$K$11 -> 96.45 | F13: =[1]高血压患者健康管理!$K$12 -> 100 | G13: =[1]高血压患者健康管理!$K$8 -> 100 | H13: =[1]高血压患者健康管理!$K$3 -> 95 | I13: =[1]高血压患者健康管理!$K$7 -> 94.16 | J13: =[1]高血压患者健康管理!$K$5 -> 99.19 | K13: =[1]高血压患者健康管理!$K$13 -> 95.88 | L13: =[1]高血压患者健康管理!$K$10 -> 95 | M13: =[1]高血压患者健康管理!$K$9 -> 96.49 | N13: =[1]高血压患者健康管理!$K$15 -> 96.67 | O13: =[1]高血压患者健康管理!$K$16 -> 92.33
A14: 10.糖尿病患者健康管理服务（80+20分） | B14: ='[1]2型糖尿病患者健康管理'!$K$10 -> 100 | C14: ='[1]2型糖尿病患者健康管理'!$K$13 -> 97.96 | D14: ='[1]2型糖尿病患者健康管理'!$K$5 -> 99.19 | E14: ='[1]2型糖尿病患者健康管理'!$K$8 -> 100 | F14: ='[1]2型糖尿病患者健康管理'!$K$16 -> 100 | G14: ='[1]2型糖尿病患者健康管理'!$K$4 -> 95.02 | H14: ='[1]2型糖尿病患者健康管理'!$K$14 -> 92.5 | I14: ='[1]2型糖尿病患者健康管理'!$K$15 -> 87.65 | J14: ='[1]2型糖尿病患者健康管理'!$K$9 -> 96.95 | K14: ='[1]2型糖尿病患者健康管理'!$K$6 -> 90.03 | L14: ='[1]2型糖尿病患者健康管理'!$K$4 -> 95.02 | M14: ='[1]2型糖尿病患者健康管理'!$K$3 -> 82.69 | N14: ='[1]2型糖尿病患者健康管理'!$K$12 -> 83.63 | O14: ='[1]2型糖尿病患者健康管理'!$K$11 -> 86.37
A15: 11.严重精神障碍患者健康管理（100分） | B15: =[1]严重精神障碍患者健康管理!$N$12 -> 98 | C15: =[1]严重精神障碍患者健康管理!$N$15 -> 100 | D15: =[1]严重精神障碍患者健康管理!$N$7 -> 94 | E15: =[1]严重精神障碍患者健康管理!$N$10 -> 98 | F15: =[1]严重精神障碍患者健康管理!$N$18 -> 100 | G15: =[1]严重精神障碍患者健康管理!$N$9 -> 100 | H15: =[1]严重精神障碍患者健康管理!$N$16 -> 98 | I15: =[1]严重精神障碍患者健康管理!$N$17 -> 100 | J15: =[1]严重精神障碍患者健康管理!$N$11 -> 98 | K15: =[1]严重精神障碍患者健康管理!$N$8 -> 99 | L15: =[1]严重精神障碍患者健康管理!$N$6 -> 90 | M15: =[1]严重精神障碍患者健康管理!$N$5 -> 100 | N15: =[1]严重精神障碍患者健康管理!$N$13 -> 98 | O15: =[1]严重精神障碍患者健康管理!$N$14 -> 96
A16: 12.传染病及突发公共卫生事件服务（100分） | B16: =[1]传染病与突发公共卫生事件报告2!$M$12 -> 92 | C16: =[1]传染病与突发公共卫生事件报告2!$M$16 -> 71 | D16: =[1]传染病与突发公共卫生事件报告2!$M$6 -> 68 | E16: =[1]传染病与突发公共卫生事件报告2!$M$7 -> 69 | F16: =[1]传染病与突发公共卫生事件报告2!$M$18 -> 91 | G16: =[1]传染病与突发公共卫生事件报告2!$M$8 -> 92 | H16: =[1]传染病与突发公共卫生事件报告2!$M$15 -> 93 | I16: =[1]传染病与突发公共卫生事件报告2!$M$17 -> 71 | J16: =[1]传染病与突发公共卫生事件报告2!$M$11 -> 92 | K16: =[1]传染病与突发公共卫生事件报告2!$M$5 -> 91 | L16: =[1]传染病与突发公共卫生事件报告2!$M$13 -> 92 | M16: =[1]传染病与突发公共卫生事件报告2!$M$14 -> 76 | N16: =[1]传染病与突发公共卫生事件报告2!$M$9 -> 90 | O16: =[1]传染病与突发公共卫生事件报告2!$M$10 -> 92
A17: 13.卫生计生监督协管服务（100分） | B17: 100 | C17: 100 | D17: 100 | E17: 100 | F17: 100 | G17: 100 | H17: 100 | I17: 100 | J17: 100 | K17: 100 | L17: 100 | M17: 83 | N17: 100 | O17: 100
A18: 14.中医药健康管理服务（100分） | B18: ='[1]中医药健康管理（老年人）'!$L$13+'[1]中医药健康管理（0-36个月儿童）'!$L$13 -> 97.16 | C18: ='[1]中医药健康管理（老年人）'!$L$10+'[1]中医药健康管理（0-36个月儿童）'!$L$10 -> 99.7 | D18: ='[1]中医药健康管理（0-36个月儿童）'!$L$5+'[1]中医药健康管理（老年人）'!$L$5 -> 97.68 | E18: ='[1]中医药健康管理（老年人）'!$L$17+'[1]中医药健康管理（0-36个月儿童）'!$L$17 -> 97 | F18: ='[1]中医药健康管理（老年人）'!$L$4+'[1]中医药健康管理（0-36个月儿童）'!$L$4 -> 95.77 | G18: ='[1]中医药健康管理（0-36个月儿童）'!$L$11+'[1]中医药健康管理（老年人）'!$L$11 -> 95.7 | H18: ='[1]中医药健康管理（老年人）'!$L$15+'[1]中医药健康管理（0-36个月儿童）'!$L$15 -> 97.5 | I18: ='[1]中医药健康管理（0-36个月儿童）'!$L$12+'[1]中医药健康管理（老年人）'!$L$12 -> 96.7 | J18: ='[1]中医药健康管理（老年人）'!$L$8+'[1]中医药健康管理（0-36个月儿童）'!$L$8 -> 97.6 | K18: ='[1]中医药健康管理（0-36个月儿童）'!$L$9+'[1]中医药健康管理（老年人）'!$L$9 -> 91.72 | L18: ='[1]中医药健康管理（0-36个月儿童）'!$L$14+'[1]中医药健康管理（老年人）'!$L$14 -> 98.49 | M18: ='[1]中医药健康管理（老年人）'!$L$16+'[1]中医药健康管理（0-36个月儿童）'!$L$16 -> 96.7 | N18: ='[1]中医药健康管理（0-36个月儿童）'!$L$6+'[1]中医药健康管理（老年人）'!$L$6 -> 91.04 | O18: ='[1]中医药健康管理（老年人）'!$L$7+'[1]中医药健康管理（0-36个月儿童）'!$L$7 -> 93.43
A19: 15.结核病患者健康管理（75分） | B19: 100 | C19: 100 | D19: 100 | E19: 100 | F19: 100 | G19: 100 | H19: 100 | I19: 100 | J19: 100 | K19: 100 | L19: 90 | M19: 100 | N19: 100 | O19: 100
A20: 16.免费提供避孕药具（100分） | B20: 99 | C20: 98.5 | D20: 95 | E20: 98 | F20: 98 | G20: =[1]免费提供避孕药具项目情况1!$H$27 -> 96.5 | H20: =[1]免费提供避孕药具项目情况1!$J$27 -> 99 | I20: 91 | J20: 95 | K20: 95 | L20: 99 | M20: 96 | N20: 99 | O20: 97
A21: 17.社会效益+项目影响（50分） | B21: 50 | C21: 50 | D21: 50 | E21: 50 | F21: 50 | G21: 50 | H21: 50 | I21: 50 | J21: 50 | K21: 50 | L21: 50 | M21: 50 | N21: 50 | O21: 50
A22: 年终得分（1650分） | B22: =SUM(B5:B21) -> 1620.5 | C22: =SUM(C5:C21) -> 1597.68 | D22: =SUM(D5:D21) -> 1573.63 | E22: =SUM(E5:E21) -> 1586.36 | F22: =SUM(F5:F21) -> 1585.25 | G22: =SUM(G5:G21) -> 1597.58 | H22: =SUM(H5:H21) -> 1585.49 | I22: =SUM(I5:I21) -> 1566.4 | ... O22: =SUM(O5:O21) -> 1539.9956
A23: 医防融合（15分） | B23: =[1]医防融合!$T$11 -> 12.074095 | C23: =[1]医防融合!$T$15 -> 12.209508 | D23: 13.09 | E23: 12.08 | F23: =[1]医防融合!$T$17 -> 12.05901 | G23: 11.23 | H23: 11.87 | I23: 12.38 | J23: 12.09 | K23: 11.5 | L23: 12.15 | M23: 12.72 | N23: 11.23 | O23: =[1]医防融合!$T$9 -> 11.736823
A24: 附加分 | B24: 0 | C24: 0 | D24: 0 | E24: 0 | F24: 0 | G24: 0.1 | H24: 0 | I24: 0 | J24: 0 | K24: 0.1 | L24: 0 | M24: 0 | N24: 0 | O24: 0
A25: 折算100分 | B25: =B22/1650*85+B23+B24 -> 95.554398 | C25: =C22/1650*85+C23+C24 -> 94.514235 | D25: =D22/1650*85+D23+D24 -> 94.155788 | E25: =E22/1650*85+E23+E24 -> 93.801576 | F25: =F22/1650*85+F23+F24 -> 93.723404 | G25: =G22/1650*85+G23+G24 -> 93.629576 | H25: =H22/1650*85+H23+H24 -> 93.546758 | I25: =I22/1650*85+I23+I24 -> 93.073333 | ... O25: =O22/1650*85+O23+O24 -> 91.069932
A26: 全市平均分 | B26: 93.27
A27: 注：评估结果分四个档次，95（含）-100为优，80（含）-95为良好，60（含）-80为中，60分以下为差。
