{"text_format":"3","workbook":"xlsx","n_sheets":1,"sheets":["Sheet1"],"not_rendered":{"external_links":3,"defined_names":2},"read":"whole","date_system":"1900"}

{"sheet":"Sheet1","index":0,"n_rows":30,"n_cols":15,"rows_kept":30,"merged":[[0,0,0,14]]}
["恩平市2021年公开招聘教师（第二场）拟聘用名册（第一批）"]
["序号","姓名","  准考证号","性别","学历","学位","  用人单位名称","职位代码","职位名称","招录人数","综合成绩","综合排名","体检结果","考察结果","备注"]
[1,"梁绮红",{"$f":"VLOOKUP(B3,'[1]考生信息 (2)'!$B$3:$C$800,2,0)","v":"801080100425"},{"$f":"VLOOKUP(B3,[2]新教师!$B$5:$C$50,2,0)","v":"女"},{"$f":"VLOOKUP(B3,[3]数据列表!$B$3:$Z$1000,25,0)","v":"本科"},{"$f":"VLOOKUP(B3,[3]数据列表!$B$3:$AA$4000,26,0)","v":"学士"},"恩平市教育局属下事业单位",{"$f":"VLOOKUP(B3,'[1]考生信息 (2)'!$B$3:$E$110,4,0)","v":"202102"},{"$f":"VLOOKUP(B3,'[1]考生信息 (2)'!$B$3:$D$700,3,0)","v":"高中语文教师"},{"$f":"VLOOKUP(B3,'[1]考生信息 (2)'!$B$3:$F$400,5,0)","v":3},{"$f":"VLOOKUP(B3,'[1]考生信息 (2)'!$B$3:$N$400,13,0)","v":78.6},{"$f":"VLOOKUP(B3,'[1]考生信息 (2)'!$B$3:$P$400,15,0)","v":1},"合格","合格"]
[2,"潘婉梅","801080100530","女","本科","/","恩平市恩城街道办事处第一幼儿园","202101","幼儿园教师",2,{"v":84.2,"d":"84.20"},{"$f":"VLOOKUP(B4,'[1]考生信息 (2)'!$B$3:$P$400,15,0)","v":1},"合格","合格"]
[3,"吴芷莹","801080100504","女","本科","学士","恩平市恩城街道办事处第一幼儿园","202101","幼儿园教师",2,83.9,2,"合格","合格"]
[4,"孔嘉樑","801080100829","男",{"$f":"VLOOKUP(B6,[3]数据列表!$B$3:$Z$1000,25,0)","v":"本科"},{"$f":"VLOOKUP(B6,[3]数据列表!$B$3:$AA$4000,26,0)","v":"学士"},"恩平市教育局属下事业单位","202106","高中历史教师",2,83.3,1,"合格","合格"]
[5,"梁茵文",{"$f":"VLOOKUP(B7,'[1]考生信息 (2)'!$B$3:$C$800,2,0)","v":"801080100225"},{"$f":"VLOOKUP(B7,[2]新教师!$B$5:$C$50,2,0)","v":"女"},{"$f":"VLOOKUP(B7,[3]数据列表!$B$3:$Z$1000,25,0)","v":"本科"},{"$f":"VLOOKUP(B7,[3]数据列表!$B$3:$AA$4000,26,0)","v":"学士"},"恩平市教育局属下事业单位",{"$f":"VLOOKUP(B7,'[1]考生信息 (2)'!$B$3:$E$110,4,0)","v":"202107"},{"$f":"VLOOKUP(B7,'[1]考生信息 (2)'!$B$3:$D$700,3,0)","v":"高中地理老师"},{"$f":"VLOOKUP(B7,'[1]考生信息 (2)'!$B$3:$F$400,5,0)","v":2},{"$f":"VLOOKUP(B7,'[1]考生信息 (2)'!$B$3:$N$400,13,0)","v":81.7},{"$f":"VLOOKUP(B7,'[1]考生信息 (2)'!$B$3:$P$400,15,0)","v":1},"合格","合格"]
[6,"邓倩影","801080100623","女","本科","学士","恩平市教育局属下事业单位","202107","高中地理老师",2,79.4,2,"合格","合格"]
[7,"邹仲正",{"$f":"VLOOKUP(B9,'[1]考生信息 (2)'!$B$3:$C$800,2,0)","v":"801080100915"},{"$f":"VLOOKUP(B9,[2]新教师!$B$5:$C$50,2,0)","v":"男"},{"$f":"VLOOKUP(B9,[3]数据列表!$B$3:$Z$1000,25,0)","v":"本科"},{"$f":"VLOOKUP(B9,[3]数据列表!$B$3:$AA$4000,26,0)","v":"学士"},"恩平市教育局属下事业单位",{"$f":"VLOOKUP(B9,'[1]考生信息 (2)'!$B$3:$E$110,4,0)","v":"202108"},{"$f":"VLOOKUP(B9,'[1]考生信息 (2)'!$B$3:$D$700,3,0)","v":"高中物理教师"},{"$f":"VLOOKUP(B9,'[1]考生信息 (2)'!$B$3:$F$400,5,0)","v":1},{"$f":"VLOOKUP(B9,'[1]考生信息 (2)'!$B$3:$N$400,13,0)","v":79.8},{"$f":"VLOOKUP(B9,'[1]考生信息 (2)'!$B$3:$P$400,15,0)","v":1},"合格","合格"]
[8,"梁晓燕",{"$f":"VLOOKUP(B10,'[1]考生信息 (2)'!$B$3:$C$800,2,0)","v":"801080100711"},{"$f":"VLOOKUP(B10,[2]新教师!$B$5:$C$50,2,0)","v":"女"},{"$f":"VLOOKUP(B10,[3]数据列表!$B$3:$Z$1000,25,0)","v":"本科"},{"$f":"VLOOKUP(B10,[3]数据列表!$B$3:$AA$4000,26,0)","v":"学士"},"恩平市教育局属下事业单位",{"$f":"VLOOKUP(B10,'[1]考生信息 (2)'!$B$3:$E$110,4,0)","v":"202109"},{"$f":"VLOOKUP(B10,'[1]考生信息 (2)'!$B$3:$D$700,3,0)","v":"高中生物教师"},{"$f":"VLOOKUP(B10,'[1]考生信息 (2)'!$B$3:$F$400,5,0)","v":2},{"$f":"VLOOKUP(B10,'[1]考生信息 (2)'!$B$3:$N$400,13,0)","v":81.9},{"$f":"VLOOKUP(B10,'[1]考生信息 (2)'!$B$3:$P$400,15,0)","v":1},"合格","合格"]
[9,"李怡健",{"$f":"VLOOKUP(B11,'[1]考生信息 (2)'!$B$3:$C$800,2,0)","v":"801080100121"},{"$f":"VLOOKUP(B11,[2]新教师!$B$5:$C$50,2,0)","v":"男"},{"$f":"VLOOKUP(B11,[3]数据列表!$B$3:$Z$1000,25,0)","v":"本科"},{"$f":"VLOOKUP(B11,[3]数据列表!$B$3:$AA$4000,26,0)","v":"学士"},"恩平市教育局属下事业单位",{"$f":"VLOOKUP(B11,'[1]考生信息 (2)'!$B$3:$E$110,4,0)","v":"202109"},{"$f":"VLOOKUP(B11,'[1]考生信息 (2)'!$B$3:$D$700,3,0)","v":"高中生物教师"},{"$f":"VLOOKUP(B11,'[1]考生信息 (2)'!$B$3:$F$400,5,0)","v":2},{"$f":"VLOOKUP(B11,'[1]考生信息 (2)'!$B$3:$N$400,13,0)","v":81.5},{"$f":"VLOOKUP(B11,'[1]考生信息 (2)'!$B$3:$P$400,15,0)","v":2},"合格","合格"]
[10,"冼珍珍","801080100702","女",{"$f":"VLOOKUP(B12,[3]数据列表!$B$3:$Z$1000,25,0)","v":"本科"},{"$f":"VLOOKUP(B12,[3]数据列表!$B$3:$AA$4000,26,0)","v":"学士"},"恩平市教育局属下事业单位","202110","高中心理教师",1,81.3,1,"合格","合格"]
[11,"司徒秀玲",{"$f":"VLOOKUP(B13,'[1]考生信息 (2)'!$B$3:$C$800,2,0)","v":"801080100110"},{"$f":"VLOOKUP(B13,[2]新教师!$B$5:$C$50,2,0)","v":"女"},{"$f":"VLOOKUP(B13,[3]数据列表!$B$3:$Z$1000,25,0)","v":"本科"},{"$f":"VLOOKUP(B13,[3]数据列表!$B$3:$AA$4000,26,0)","v":"学士"},"恩平市教育局属下事业单位",{"$f":"VLOOKUP(B13,'[1]考生信息 (2)'!$B$3:$E$110,4,0)","v":"202111"},{"$f":"VLOOKUP(B13,'[1]考生信息 (2)'!$B$3:$D$700,3,0)","v":"初中英语教师"},{"$f":"VLOOKUP(B13,'[1]考生信息 (2)'!$B$3:$F$400,5,0)","v":1},{"$f":"VLOOKUP(B13,'[1]考生信息 (2)'!$B$3:$N$400,13,0)","v":87.6},{"$f":"VLOOKUP(B13,'[1]考生信息 (2)'!$B$3:$P$400,15,0)","v":1},"合格","合格"]
[12,"罗瑾",{"$f":"VLOOKUP(B14,'[1]考生信息 (2)'!$B$3:$C$800,2,0)","v":"801080100728"},{"$f":"VLOOKUP(B14,[2]新教师!$B$5:$C$50,2,0)","v":"男"},{"$f":"VLOOKUP(B14,[3]数据列表!$B$3:$Z$1000,25,0)","v":"本科"},{"$f":"VLOOKUP(B14,[3]数据列表!$B$3:$AA$4000,26,0)","v":"学士"},"恩平市教育局属下事业单位",{"$f":"VLOOKUP(B14,'[1]考生信息 (2)'!$B$3:$E$110,4,0)","v":"202112"},{"$f":"VLOOKUP(B14,'[1]考生信息 (2)'!$B$3:$D$700,3,0)","v":"初中英语教师"},{"$f":"VLOOKUP(B14,'[1]考生信息 (2)'!$B$3:$F$400,5,0)","v":1},{"$f":"VLOOKUP(B14,'[1]考生信息 (2)'!$B$3:$N$400,13,0)","v":84.7},{"$f":"VLOOKUP(B14,'[1]考生信息 (2)'!$B$3:$P$400,15,0)","v":2},"合格","合格","递补"]
[13,"唐海锋",{"$f":"VLOOKUP(B15,'[1]考生信息 (2)'!$B$3:$C$800,2,0)","v":"801080100824"},{"$f":"VLOOKUP(B15,[2]新教师!$B$5:$C$50,2,0)","v":"男"},{"$f":"VLOOKUP(B15,[3]数据列表!$B$3:$Z$1000,25,0)","v":"本科"},{"$f":"VLOOKUP(B15,[3]数据列表!$B$3:$AA$4000,26,0)","v":"学士"},"恩平市教育局属下事业单位",{"$f":"VLOOKUP(B15,'[1]考生信息 (2)'!$B$3:$E$110,4,0)","v":"202113"},{"$f":"VLOOKUP(B15,'[1]考生信息 (2)'!$B$3:$D$700,3,0)","v":"初中体育教师"},{"$f":"VLOOKUP(B15,'[1]考生信息 (2)'!$B$3:$F$400,5,0)","v":2},{"$f":"VLOOKUP(B15,'[1]考生信息 (2)'!$B$3:$N$400,13,0)","v":89.3},{"$f":"VLOOKUP(B15,'[1]考生信息 (2)'!$B$3:$P$400,15,0)","v":1},"合格","合格"]
[14,"钱金焕",{"$f":"VLOOKUP(B16,'[1]考生信息 (2)'!$B$3:$C$800,2,0)","v":"801080100329"},{"$f":"VLOOKUP(B16,[2]新教师!$B$5:$C$50,2,0)","v":"女"},{"$f":"VLOOKUP(B16,[3]数据列表!$B$3:$Z$1000,25,0)","v":"本科"},{"$f":"VLOOKUP(B16,[3]数据列表!$B$3:$AA$4000,26,0)","v":"学士"},"恩平市教育局属下事业单位",{"$f":"VLOOKUP(B16,'[1]考生信息 (2)'!$B$3:$E$110,4,0)","v":"202115"},{"$f":"VLOOKUP(B16,'[1]考生信息 (2)'!$B$3:$D$700,3,0)","v":"初中历史教师"},{"$f":"VLOOKUP(B16,'[1]考生信息 (2)'!$B$3:$F$400,5,0)","v":2},{"$f":"VLOOKUP(B16,'[1]考生信息 (2)'!$B$3:$N$400,13,0)","v":83.1},{"$f":"VLOOKUP(B16,'[1]考生信息 (2)'!$B$3:$P$400,15,0)","v":1},"合格","合格"]
[15,"廖文兰",{"$f":"VLOOKUP(B17,'[1]考生信息 (2)'!$B$3:$C$800,2,0)","v":"801080100428"},{"$f":"VLOOKUP(B17,[2]新教师!$B$5:$C$50,2,0)","v":"女"},{"$f":"VLOOKUP(B17,[3]数据列表!$B$3:$Z$1000,25,0)","v":"本科"},{"$f":"VLOOKUP(B17,[3]数据列表!$B$3:$AA$4000,26,0)","v":"学士"},"恩平市教育局属下事业单位",{"$f":"VLOOKUP(B17,'[1]考生信息 (2)'!$B$3:$E$110,4,0)","v":"202116"},{"$f":"VLOOKUP(B17,'[1]考生信息 (2)'!$B$3:$D$700,3,0)","v":"初中生物教师"},{"$f":"VLOOKUP(B17,'[1]考生信息 (2)'!$B$3:$F$400,5,0)","v":2},{"$f":"VLOOKUP(B17,'[1]考生信息 (2)'!$B$3:$N$400,13,0)","v":81.5},{"$f":"VLOOKUP(B17,'[1]考生信息 (2)'!$B$3:$P$400,15,0)","v":2},"合格","合格"]
[16,"杨春霞",{"$f":"VLOOKUP(B18,'[1]考生信息 (2)'!$B$3:$C$800,2,0)","v":"801080100227"},{"$f":"VLOOKUP(B18,[2]新教师!$B$5:$C$50,2,0)","v":"女"},{"$f":"VLOOKUP(B18,[3]数据列表!$B$3:$Z$1000,25,0)","v":"本科"},{"$f":"VLOOKUP(B18,[3]数据列表!$B$3:$AA$4000,26,0)","v":"学士"},"恩平市教育局属下事业单位",{"$f":"VLOOKUP(B18,'[1]考生信息 (2)'!$B$3:$E$110,4,0)","v":"202117"},{"$f":"VLOOKUP(B18,'[1]考生信息 (2)'!$B$3:$D$700,3,0)","v":"初中政治教师"},{"$f":"VLOOKUP(B18,'[1]考生信息 (2)'!$B$3:$F$400,5,0)","v":1},{"$f":"VLOOKUP(B18,'[1]考生信息 (2)'!$B$3:$N$400,13,0)","v":84.9},{"$f":"VLOOKUP(B18,'[1]考生信息 (2)'!$B$3:$P$400,15,0)","v":1},"合格","合格"]
[17,"韦利文",{"$f":"VLOOKUP(B19,'[1]考生信息 (2)'!$B$3:$C$800,2,0)","v":"801080100207"},{"$f":"VLOOKUP(B19,[2]新教师!$B$5:$C$50,2,0)","v":"女"},{"$f":"VLOOKUP(B19,[3]数据列表!$B$3:$Z$1000,25,0)","v":"本科"},{"$f":"VLOOKUP(B19,[3]数据列表!$B$3:$AA$4000,26,0)","v":"学士"},"恩平市教育局属下事业单位",{"$f":"VLOOKUP(B19,'[1]考生信息 (2)'!$B$3:$E$110,4,0)","v":"202118"},{"$f":"VLOOKUP(B19,'[1]考生信息 (2)'!$B$3:$D$700,3,0)","v":"初中化学教师"},{"$f":"VLOOKUP(B19,'[1]考生信息 (2)'!$B$3:$F$400,5,0)","v":1},{"$f":"VLOOKUP(B19,'[1]考生信息 (2)'!$B$3:$N$400,13,0)","v":86.2},{"$f":"VLOOKUP(B19,'[1]考生信息 (2)'!$B$3:$P$400,15,0)","v":1},"合格","合格"]
[18,"陈玉萍",{"$f":"VLOOKUP(B20,'[1]考生信息 (2)'!$B$3:$C$800,2,0)","v":"801080100201"},{"$f":"VLOOKUP(B20,[2]新教师!$B$5:$C$50,2,0)","v":"女"},{"$f":"VLOOKUP(B20,[3]数据列表!$B$3:$Z$1000,25,0)","v":"本科"},{"$f":"VLOOKUP(B20,[3]数据列表!$B$3:$AA$4000,26,0)","v":"学士"},"恩平市教育局属下事业单位",{"$f":"VLOOKUP(B20,'[1]考生信息 (2)'!$B$3:$E$110,4,0)","v":"202119"},{"$f":"VLOOKUP(B20,'[1]考生信息 (2)'!$B$3:$D$700,3,0)","v":"小学语文教师"},{"$f":"VLOOKUP(B20,'[1]考生信息 (2)'!$B$3:$F$400,5,0)","v":1},{"$f":"VLOOKUP(B20,'[1]考生信息 (2)'!$B$3:$N$400,13,0)","v":82.5},{"$f":"VLOOKUP(B20,'[1]考生信息 (2)'!$B$3:$P$400,15,0)","v":1},"合格","合格"]
[19,"劳卓盈",{"$f":"VLOOKUP(B21,'[1]考生信息 (2)'!$B$3:$C$800,2,0)","v":"801080100625"},{"$f":"VLOOKUP(B21,[2]新教师!$B$5:$C$50,2,0)","v":"女"},{"$f":"VLOOKUP(B21,[3]数据列表!$B$3:$Z$1000,25,0)","v":"本科"},{"$f":"VLOOKUP(B21,[3]数据列表!$B$3:$AA$4000,26,0)","v":"学士"},"恩平市教育局属下事业单位",{"$f":"VLOOKUP(B21,'[1]考生信息 (2)'!$B$3:$E$110,4,0)","v":"202120"},{"$f":"VLOOKUP(B21,'[1]考生信息 (2)'!$B$3:$D$700,3,0)","v":"小学语文教师"},{"$f":"VLOOKUP(B21,'[1]考生信息 (2)'!$B$3:$F$400,5,0)","v":2},{"$f":"VLOOKUP(B21,'[1]考生信息 (2)'!$B$3:$N$400,13,0)","v":80.3},{"$f":"VLOOKUP(B21,'[1]考生信息 (2)'!$B$3:$P$400,15,0)","v":2},"合格","合格"]
[20,"朱桂秀","801080100404","女","本科","学士","恩平市教育局属下事业单位","202121","小学数学教师",3,78.5,1,"合格","合格"]
[21,"梁依雯",{"$f":"VLOOKUP(B23,'[1]考生信息 (2)'!$B$3:$C$800,2,0)","v":"801080100808"},{"$f":"VLOOKUP(B23,[2]新教师!$B$5:$C$50,2,0)","v":"女"},{"$f":"VLOOKUP(B23,[3]数据列表!$B$3:$Z$1000,25,0)","v":"本科"},{"$f":"VLOOKUP(B23,[3]数据列表!$B$3:$AA$4000,26,0)","v":"学士"},"恩平市教育局属下事业单位",{"$f":"VLOOKUP(B23,'[1]考生信息 (2)'!$B$3:$E$110,4,0)","v":"202122"},{"$f":"VLOOKUP(B23,'[1]考生信息 (2)'!$B$3:$D$700,3,0)","v":"小学数学教师"},{"$f":"VLOOKUP(B23,'[1]考生信息 (2)'!$B$3:$F$400,5,0)","v":1},{"$f":"VLOOKUP(B23,'[1]考生信息 (2)'!$B$3:$N$400,13,0)","v":78.2},{"$f":"VLOOKUP(B23,'[1]考生信息 (2)'!$B$3:$P$400,15,0)","v":1},"合格","合格"]
[22,"梁晓红","801080100108","女","本科","学士","恩平市教育局属下事业单位","202123","小学英语教师",2,83.2,2,"合格","合格"]
[23,"吴恒照",{"$f":"VLOOKUP(B25,'[1]考生信息 (2)'!$B$3:$C$800,2,0)","v":"801080100413"},{"$f":"VLOOKUP(B25,[2]新教师!$B$5:$C$50,2,0)","v":"男"},{"$f":"VLOOKUP(B25,[3]数据列表!$B$3:$Z$1000,25,0)","v":"本科"},{"$f":"VLOOKUP(B25,[3]数据列表!$B$3:$AA$4000,26,0)","v":"学士"},"恩平市教育局属下事业单位",{"$f":"VLOOKUP(B25,'[1]考生信息 (2)'!$B$3:$E$110,4,0)","v":"202125"},{"$f":"VLOOKUP(B25,'[1]考生信息 (2)'!$B$3:$D$700,3,0)","v":"小学体育教师"},{"$f":"VLOOKUP(B25,'[1]考生信息 (2)'!$B$3:$F$400,5,0)","v":2},{"$f":"VLOOKUP(B25,'[1]考生信息 (2)'!$B$3:$N$400,13,0)","v":83.6},{"$f":"VLOOKUP(B25,'[1]考生信息 (2)'!$B$3:$P$400,15,0)","v":2},"合格","合格"]
[24,"伍瑞欣",{"$f":"VLOOKUP(B26,'[1]考生信息 (2)'!$B$3:$C$800,2,0)","v":"801080100116"},{"$f":"VLOOKUP(B26,[2]新教师!$B$5:$C$50,2,0)","v":"男"},{"$f":"VLOOKUP(B26,[3]数据列表!$B$3:$Z$1000,25,0)","v":"本科"},{"$f":"VLOOKUP(B26,[3]数据列表!$B$3:$AA$4000,26,0)","v":"学士"},"恩平市教育局属下事业单位",{"$f":"VLOOKUP(B26,'[1]考生信息 (2)'!$B$3:$E$110,4,0)","v":"202125"},{"$f":"VLOOKUP(B26,'[1]考生信息 (2)'!$B$3:$D$700,3,0)","v":"小学体育教师"},{"$f":"VLOOKUP(B26,'[1]考生信息 (2)'!$B$3:$F$400,5,0)","v":2},{"$f":"VLOOKUP(B26,'[1]考生信息 (2)'!$B$3:$N$400,13,0)","v":{"v":80,"d":"80.0"}},{"$f":"VLOOKUP(B26,'[1]考生信息 (2)'!$B$3:$P$400,15,0)","v":3},"合格","合格","递补"]
[25,"冯博俊",{"$f":"VLOOKUP(B27,'[1]考生信息 (2)'!$B$3:$C$800,2,0)","v":"801080100411"},{"$f":"VLOOKUP(B27,[2]新教师!$B$5:$C$50,2,0)","v":"男"},{"$f":"VLOOKUP(B27,[3]数据列表!$B$3:$Z$1000,25,0)","v":"本科"},{"$f":"VLOOKUP(B27,[3]数据列表!$B$3:$AA$4000,26,0)","v":"学士"},"恩平市教育局属下事业单位",{"$f":"VLOOKUP(B27,'[1]考生信息 (2)'!$B$3:$E$110,4,0)","v":"202127"},{"$f":"VLOOKUP(B27,'[1]考生信息 (2)'!$B$3:$D$700,3,0)","v":"小学音乐教师"},{"$f":"VLOOKUP(B27,'[1]考生信息 (2)'!$B$3:$F$400,5,0)","v":2},{"$f":"VLOOKUP(B27,'[1]考生信息 (2)'!$B$3:$N$400,13,0)","v":{"v":80,"d":"80.0"}},{"$f":"VLOOKUP(B27,'[1]考生信息 (2)'!$B$3:$P$400,15,0)","v":2},"合格","合格"]
[26,"关渊凡",{"$f":"VLOOKUP(B28,'[1]考生信息 (2)'!$B$3:$C$800,2,0)","v":"801080100119"},{"$f":"VLOOKUP(B28,[2]新教师!$B$5:$C$50,2,0)","v":"女"},{"$f":"VLOOKUP(B28,[3]数据列表!$B$3:$Z$1000,25,0)","v":"本科"},{"$f":"VLOOKUP(B28,[3]数据列表!$B$3:$AA$4000,26,0)","v":"学士"},"恩平市教育局属下事业单位",{"$f":"VLOOKUP(B28,'[1]考生信息 (2)'!$B$3:$E$110,4,0)","v":"202127"},{"$f":"VLOOKUP(B28,'[1]考生信息 (2)'!$B$3:$D$700,3,0)","v":"小学音乐教师"},{"$f":"VLOOKUP(B28,'[1]考生信息 (2)'!$B$3:$F$400,5,0)","v":2},{"$f":"VLOOKUP(B28,'[1]考生信息 (2)'!$B$3:$N$400,13,0)","v":82.3},{"$f":"VLOOKUP(B28,'[1]考生信息 (2)'!$B$3:$P$400,15,0)","v":1},"合格","合格"]
[27,"胡楚筠",{"$f":"VLOOKUP(B29,'[1]考生信息 (2)'!$B$3:$C$800,2,0)","v":"801080100917"},{"$f":"VLOOKUP(B29,[2]新教师!$B$5:$C$50,2,0)","v":"女"},{"$f":"VLOOKUP(B29,[3]数据列表!$B$3:$Z$1000,25,0)","v":"本科"},{"$f":"VLOOKUP(B29,[3]数据列表!$B$3:$AA$4000,26,0)","v":"学士"},"恩平市教育局属下事业单位",{"$f":"VLOOKUP(B29,'[1]考生信息 (2)'!$B$3:$E$110,4,0)","v":"202128"},{"$f":"VLOOKUP(B29,'[1]考生信息 (2)'!$B$3:$D$700,3,0)","v":"小学美术教师"},{"$f":"VLOOKUP(B29,'[1]考生信息 (2)'!$B$3:$F$400,5,0)","v":2},{"$f":"VLOOKUP(B29,'[1]考生信息 (2)'!$B$3:$N$400,13,0)","v":85.5},{"$f":"VLOOKUP(B29,'[1]考生信息 (2)'!$B$3:$P$400,15,0)","v":2},"合格","合格"]
[28,"梁思婷",{"$f":"VLOOKUP(B30,'[1]考生信息 (2)'!$B$3:$C$800,2,0)","v":"801080100212"},{"$f":"VLOOKUP(B30,[2]新教师!$B$5:$C$50,2,0)","v":"女"},{"$f":"VLOOKUP(B30,[3]数据列表!$B$3:$Z$1000,25,0)","v":"本科"},{"$f":"VLOOKUP(B30,[3]数据列表!$B$3:$AA$4000,26,0)","v":"学士"},"恩平市职业技术教育中心",{"$f":"VLOOKUP(B30,'[1]考生信息 (2)'!$B$3:$E$110,4,0)","v":"202131"},{"$f":"VLOOKUP(B30,'[1]考生信息 (2)'!$B$3:$D$700,3,0)","v":"职业高中会计教师"},{"$f":"VLOOKUP(B30,'[1]考生信息 (2)'!$B$3:$F$400,5,0)","v":1},{"$f":"VLOOKUP(B30,'[1]考生信息 (2)'!$B$3:$N$400,13,0)","v":80.5},{"$f":"VLOOKUP(B30,'[1]考生信息 (2)'!$B$3:$P$400,15,0)","v":1},"合格","合格"]